BEGIN:VCALENDAR
VERSION:2.0
PRODID:-//Hamburger Initiative gegen Rüstungsexporte - ECPv6.15.11//NONSGML v1.0//EN
CALSCALE:GREGORIAN
METHOD:PUBLISH
X-WR-CALNAME:Hamburger Initiative gegen Rüstungsexporte
X-ORIGINAL-URL:https://ziviler-hafen.de
X-WR-CALDESC:Veranstaltungen für Hamburger Initiative gegen Rüstungsexporte
REFRESH-INTERVAL;VALUE=DURATION:PT1H
X-Robots-Tag:noindex
X-PUBLISHED-TTL:PT1H
BEGIN:VTIMEZONE
TZID:Europe/Berlin
BEGIN:DAYLIGHT
TZOFFSETFROM:+0100
TZOFFSETTO:+0200
TZNAME:CEST
DTSTART:20220327T010000
END:DAYLIGHT
BEGIN:STANDARD
TZOFFSETFROM:+0200
TZOFFSETTO:+0100
TZNAME:CET
DTSTART:20221030T010000
END:STANDARD
BEGIN:DAYLIGHT
TZOFFSETFROM:+0100
TZOFFSETTO:+0200
TZNAME:CEST
DTSTART:20230326T010000
END:DAYLIGHT
BEGIN:STANDARD
TZOFFSETFROM:+0200
TZOFFSETTO:+0100
TZNAME:CET
DTSTART:20231029T010000
END:STANDARD
BEGIN:DAYLIGHT
TZOFFSETFROM:+0100
TZOFFSETTO:+0200
TZNAME:CEST
DTSTART:20240331T010000
END:DAYLIGHT
BEGIN:STANDARD
TZOFFSETFROM:+0200
TZOFFSETTO:+0100
TZNAME:CET
DTSTART:20241027T010000
END:STANDARD
END:VTIMEZONE
BEGIN:VEVENT
DTSTART;TZID=Europe/Berlin:20231118T110000
DTEND;TZID=Europe/Berlin:20231118T170000
DTSTAMP:20260422T105139
CREATED:20231107T142714Z
LAST-MODIFIED:20231114T192038Z
UID:4556-1700305200-1700326800@ziviler-hafen.de
SUMMARY:„Die Waﬀen nieder!“  Feministische Wege zum Frieden – Frauenfriedenstag
DESCRIPTION:veranstaltet vom Frauenwerk der Nordkirche \nSamstag\, 18.11.23\, 11:00 Uhr – 17:00 Uhr\nDorothee-Sölle-Haus\nKönigstraße 54\, Hamburg-Altona \nMit ihrer konsequent paziﬁstischen Haltung traf die Friedensaktivistin Bertha von Suttner den Nerv ihrer Zeit. Ihr Aufruf „Die Waﬀen nieder!“ von 1889 ist in der Gegenwart immer noch aktuell. Am Frauenfriedenstag 2023 wird mit verschiedenen Impulsreferaten der Frage nachgegangen\, wie eine paziﬁstische Haltung heute politisch und theologisch begründet werden kann und wie zivile Konﬂiktlösungen aussehen können. \nDie Frauenrechtsorganisation AMICA e.V.\, die 2023 ihr 30-jähriges Bestehen feiert\, wird ihre Arbeit in aktuellen Kriegs- und Krisengebieten vorstellen. Auch Mitglieder des internationalen Friedensnetzwerks „Frauen in Schwarz“ werden über ihr Engagement berichten.  \nReferentinnen:\nPastorin Antje Heider-Rottwilm\, Vorsitzende Church and Peace\, Berlin\nMartina Sabra\, Journalistin\, Köln\,\nGaëlle Dietrich\, AMICA e.V.\, Freiburg\nFrauen in Schwarz\, Hamburg \n  \nKosten 20 €\, Ermäßigung möglich \nUnterstützer: AMICA e.V.\, Freiburg\, des Ev. Frauenwerks Schleswig-Flensburg und des Ev. Frauenwerks Hamburg-West/Südholstein \nWeitere Infos: https://www.frauenwerk-nordkirche.de/termin/die-waffen-nieder-1/
URL:https://ziviler-hafen.de/event/die-wa%ef%ac%80en-nieder-feministische-wege-zum-frieden-frauenfriedenstag
CATEGORIES:Veranstaltung
END:VEVENT
BEGIN:VEVENT
DTSTART;TZID=Europe/Berlin:20231118T120000
DTEND;TZID=Europe/Berlin:20231118T150000
DTSTAMP:20260422T105139
CREATED:20231114T191851Z
LAST-MODIFIED:20231114T192226Z
UID:4562-1700308800-1700319600@ziviler-hafen.de
SUMMARY:Demonstration: DIE WAFFEN NIEDER! ALLE KRIEGE BEENDEN – SOFORT!
DESCRIPTION:Samstag\, den 18. November\nAuftakt: 12 Uhr Heidi-Kabel-Platz (Bieberhaus am Hauptbahnhof)\nAb 13 Uhr Demonstration\nAbschlusskundgebung: 15 Uhr Theodor-Heuss-Platz (Dammtor) \nZitiert: \n\nDie Nachrichten vom Krieg zwischen Israel und Palästina im Gazastreifen haben die Ukraine-Nachrichten von den ersten Seiten verdrängt. Sie sind einfach zu barbarisch. Mehr als 1.400 ermordete Israelis\, Festival-Teilnehmer\, Kibbuz-Bewohner\, Babys\, Kinder\, Jugendliche\, Frauen und alten Menschen – wahllos niedergemetzelt.\nMittlerweile mehr als 10.000 ermordete PalästinenserInnen im Gazastreifen\, darunter mehr als 4.000 Kinder – ebenfalls wahllos ermordet.\nDer Gazastreifen – ein Gebiet etwa von der Größe Bremens – ist von 2\,3 Millionen PalästinenserInnen bewohnt\, staatenlose Flüchtlinge\, die vom israelischen Militär kollektiv bestraft werden für Verbrechen\, an denen sie nicht beteiligt waren.\nExperten sprechen von Völkermord im Gazastreifen.\nEs gibt auch in diesem Krieg keine militärische Lösung.\nWir trauern um alle Opfer. \n\nVeranstalter: Hamburger Forum – Flugblatt zur Demonstration
URL:https://ziviler-hafen.de/event/demonstration-die-waffen-nieder-alle-kriege-beenden-sofort
CATEGORIES:Demonstration,Kundgebung
END:VEVENT
END:VCALENDAR